BEGIN:VCALENDAR
VERSION:2.0
PRODID:-//Carlito&#039;s House - ECPv5.14.2.1//NONSGML v1.0//EN
CALSCALE:GREGORIAN
METHOD:PUBLISH
X-WR-CALNAME:Carlito&#039;s House
X-ORIGINAL-URL:https://carlitoshouse.org
X-WR-CALDESC:Events for Carlito&#039;s House
REFRESH-INTERVAL;VALUE=DURATION:PT1H
X-Robots-Tag:noindex
X-PUBLISHED-TTL:PT1H
BEGIN:VTIMEZONE
TZID:UTC
BEGIN:STANDARD
TZOFFSETFROM:+0000
TZOFFSETTO:+0000
TZNAME:UTC
DTSTART:20220101T000000
END:STANDARD
END:VTIMEZONE
BEGIN:VEVENT
DTSTART;TZID=UTC:20221020T160000
DTEND;TZID=UTC:20221020T210000
DTSTAMP:20260423T103254
CREATED:20221019T151844Z
LAST-MODIFIED:20221019T184223Z
UID:3923-1666281600-1666299600@carlitoshouse.org
SUMMARY:30-Year CCHS Alumni reunion Happy Hour fundraiser for Carlito’s House
DESCRIPTION:
URL:https://carlitoshouse.org/event/30-year-cchs-alumni-reunion-happy-hour-fundraiser-for-carlitos-house/
LOCATION:The Globe\, 377 Alhambra Circle\, Coral Gables\, FL\, United States
ATTACH;FMTTYPE=image/png:https://carlitoshouse.org/wp-content/uploads/2022/10/9D1260F7-D706-49F1-86C0-90014A319ADD.png
END:VEVENT
END:VCALENDAR